BEGIN:VCALENDAR
VERSION:2.0
PRODID:-//Generation 68 - ECPv6.15.20//NONSGML v1.0//EN
CALSCALE:GREGORIAN
METHOD:PUBLISH
X-WR-CALNAME:Generation 68
X-ORIGINAL-URL:https://www.generation-68.de
X-WR-CALDESC:Veranstaltungen für Generation 68
REFRESH-INTERVAL;VALUE=DURATION:PT1H
X-Robots-Tag:noindex
X-PUBLISHED-TTL:PT1H
BEGIN:VTIMEZONE
TZID:Europe/Berlin
BEGIN:DAYLIGHT
TZOFFSETFROM:+0100
TZOFFSETTO:+0200
TZNAME:CEST
DTSTART:20250330T010000
END:DAYLIGHT
BEGIN:STANDARD
TZOFFSETFROM:+0200
TZOFFSETTO:+0100
TZNAME:CET
DTSTART:20251026T010000
END:STANDARD
BEGIN:DAYLIGHT
TZOFFSETFROM:+0100
TZOFFSETTO:+0200
TZNAME:CEST
DTSTART:20260329T010000
END:DAYLIGHT
BEGIN:STANDARD
TZOFFSETFROM:+0200
TZOFFSETTO:+0100
TZNAME:CET
DTSTART:20261025T010000
END:STANDARD
BEGIN:DAYLIGHT
TZOFFSETFROM:+0100
TZOFFSETTO:+0200
TZNAME:CEST
DTSTART:20270328T010000
END:DAYLIGHT
BEGIN:STANDARD
TZOFFSETFROM:+0200
TZOFFSETTO:+0100
TZNAME:CET
DTSTART:20271031T010000
END:STANDARD
END:VTIMEZONE
BEGIN:VEVENT
DTSTART;TZID=Europe/Berlin:20260305T183000
DTEND;TZID=Europe/Berlin:20260305T220000
DTSTAMP:20260424T160350
CREATED:20260213T102036Z
LAST-MODIFIED:20260223T190236Z
UID:2983-1772735400-1772748000@www.generation-68.de
SUMMARY:Stammtisch - Croatica
DESCRIPTION:Startseite – Restaurant Croatica \nSTAMMTISCHZEIT\nUnd weiter geht es: unser nächster Stammtisch findet am Donnerstag\, den 5. März ab 18.30 Uhr im Croatica am Ludwigsplatz statt. Auch hier bitten wir euch um eine Anmeldung im Nuudel:\nhttps://nuudel.digitalcourage.de/4Tyxc9TEENKBXETL
URL:https://www.generation-68.de/event/stammtisch-croatica/
END:VEVENT
BEGIN:VEVENT
DTSTART;TZID=Europe/Berlin:20260321T150000
DTEND;TZID=Europe/Berlin:20260321T220000
DTSTAMP:20260424T160350
CREATED:20251107T160004Z
LAST-MODIFIED:20260223T190005Z
UID:2936-1774105200-1774130400@www.generation-68.de
SUMMARY:Wiederholung Männer-Event: Eisstockschießen
DESCRIPTION:EISSTOCKSCHIESSEN\nWir treffen uns am 21.03.2026 um 15.00 Uhr beim Eisstock TV 1905 Mainzlar e. V.\, Hachborner Str. 100\, Stauffenberg\, Partner sind willkommen. Für die Partner sammeln wir je 5 € ein (bitte passend mitbringen)\, für uns wird aus der Vereinskasse bezahlt. Die Teilnehmerzahl ist auf maximal 40 begrenzt. BITTE MELDET EUCH DAHER bis zum 06.03.2026 auf beigefügtem Nuudel an. Nach dem Eisstockstießen gehen wir zum „Zum Schwan“ essen.\nBitte meldet euch in beigefügtem Nuudel an:\nhttps://nuudel.digitalcourage.de/H456YqVqCs2KPmDg
URL:https://www.generation-68.de/event/wiederholung-maenner-event-eisstockschiessen/
END:VEVENT
END:VCALENDAR