BEGIN:VCALENDAR
VERSION:2.0
PRODID:-//Generation 68 - ECPv6.15.20//NONSGML v1.0//EN
CALSCALE:GREGORIAN
METHOD:PUBLISH
X-WR-CALNAME:Generation 68
X-ORIGINAL-URL:https://www.generation-68.de
X-WR-CALDESC:Veranstaltungen für Generation 68
REFRESH-INTERVAL;VALUE=DURATION:PT1H
X-Robots-Tag:noindex
X-PUBLISHED-TTL:PT1H
BEGIN:VTIMEZONE
TZID:Europe/Berlin
BEGIN:DAYLIGHT
TZOFFSETFROM:+0100
TZOFFSETTO:+0200
TZNAME:CEST
DTSTART:20250330T010000
END:DAYLIGHT
BEGIN:STANDARD
TZOFFSETFROM:+0200
TZOFFSETTO:+0100
TZNAME:CET
DTSTART:20251026T010000
END:STANDARD
BEGIN:DAYLIGHT
TZOFFSETFROM:+0100
TZOFFSETTO:+0200
TZNAME:CEST
DTSTART:20260329T010000
END:DAYLIGHT
BEGIN:STANDARD
TZOFFSETFROM:+0200
TZOFFSETTO:+0100
TZNAME:CET
DTSTART:20261025T010000
END:STANDARD
BEGIN:DAYLIGHT
TZOFFSETFROM:+0100
TZOFFSETTO:+0200
TZNAME:CEST
DTSTART:20270328T010000
END:DAYLIGHT
BEGIN:STANDARD
TZOFFSETFROM:+0200
TZOFFSETTO:+0100
TZNAME:CET
DTSTART:20271031T010000
END:STANDARD
END:VTIMEZONE
BEGIN:VEVENT
DTSTART;TZID=Europe/Berlin:20260507T183000
DTEND;TZID=Europe/Berlin:20260507T220000
DTSTAMP:20260424T155314
CREATED:20260213T102309Z
LAST-MODIFIED:20260213T102309Z
UID:2987-1778178600-1778191200@www.generation-68.de
SUMMARY:Stammtisch - News Café
DESCRIPTION:News Café | Dein Café in Gießen
URL:https://www.generation-68.de/event/stammtisch-news-cafe/
END:VEVENT
BEGIN:VEVENT
DTSTART;TZID=Europe/Berlin:20260612T183000
DTEND;TZID=Europe/Berlin:20260612T220000
DTSTAMP:20260424T155314
CREATED:20260213T102429Z
LAST-MODIFIED:20260213T102429Z
UID:2989-1781289000-1781301600@www.generation-68.de
SUMMARY:Stammtisch - Au Lac
DESCRIPTION:Startseite – Âu Lac Restaurant Gießen – Speisen an der Lahn
URL:https://www.generation-68.de/event/stammtisch-au-lac/
END:VEVENT
BEGIN:VEVENT
DTSTART;VALUE=DATE:20260614
DTEND;VALUE=DATE:20260615
DTSTAMP:20260424T155314
CREATED:20251107T160105Z
LAST-MODIFIED:20251121T175628Z
UID:2940-1781395200-1781481599@www.generation-68.de
SUMMARY:Wäldchesfest
DESCRIPTION:
URL:https://www.generation-68.de/event/waeldchesfest-2/
END:VEVENT
BEGIN:VEVENT
DTSTART;TZID=Europe/Berlin:20260702T183000
DTEND;TZID=Europe/Berlin:20260702T220000
DTSTAMP:20260424T155314
CREATED:20260213T102536Z
LAST-MODIFIED:20260213T102536Z
UID:2991-1783017000-1783029600@www.generation-68.de
SUMMARY:Stammtisch - R-Café
DESCRIPTION:Gießen – R-Café
URL:https://www.generation-68.de/event/stammtisch-r-cafe/
END:VEVENT
BEGIN:VEVENT
DTSTART;TZID=Europe/Berlin:20260807T183000
DTEND;TZID=Europe/Berlin:20260807T220000
DTSTAMP:20260424T155314
CREATED:20260213T102640Z
LAST-MODIFIED:20260213T102640Z
UID:2993-1786127400-1786140000@www.generation-68.de
SUMMARY:Stammtisch - Boxerclub
DESCRIPTION:Syrtaki im Boxerclub – Gießen | Griechische Küche in meiner Nähe | Jetzt reservieren
URL:https://www.generation-68.de/event/stammtisch-boxerclub-2/
END:VEVENT
BEGIN:VEVENT
DTSTART;TZID=Europe/Berlin:20260903T183000
DTEND;TZID=Europe/Berlin:20260903T220000
DTSTAMP:20260424T155314
CREATED:20260213T102750Z
LAST-MODIFIED:20260213T102750Z
UID:2995-1788460200-1788472800@www.generation-68.de
SUMMARY:Stammtisch - La Perla
DESCRIPTION:La Perla – La Perla
URL:https://www.generation-68.de/event/stammtisch-la-perla/
END:VEVENT
BEGIN:VEVENT
DTSTART;VALUE=DATE:20260918
DTEND;VALUE=DATE:20260921
DTSTAMP:20260424T155314
CREATED:20251107T160143Z
LAST-MODIFIED:20251107T160143Z
UID:2942-1789689600-1789948799@www.generation-68.de
SUMMARY:Klassenfahrt 4.0 im Spessart-Schlösschen
DESCRIPTION:
URL:https://www.generation-68.de/event/klassenfahrt-4-0-im-spessart-schloesschen/
END:VEVENT
BEGIN:VEVENT
DTSTART;VALUE=DATE:20261010
DTEND;VALUE=DATE:20261011
DTSTAMP:20260424T155314
CREATED:20260105T174355Z
LAST-MODIFIED:20260105T174355Z
UID:2966-1791590400-1791676799@www.generation-68.de
SUMMARY:gemeinsames Essen mit anschließender\, abendliche Kostümführung\, Wetzlar
DESCRIPTION:
URL:https://www.generation-68.de/event/gemeinsames-essen-mit-anschliessender-abendliche-kostuemfuehrung-wetzlar/
END:VEVENT
BEGIN:VEVENT
DTSTART;VALUE=DATE:20261114
DTEND;VALUE=DATE:20261115
DTSTAMP:20260424T155314
CREATED:20260213T102934Z
LAST-MODIFIED:20260213T102934Z
UID:2999-1794614400-1794700799@www.generation-68.de
SUMMARY:Jahreshauptversammlung
DESCRIPTION:
URL:https://www.generation-68.de/event/jahreshauptversammlung-2/
END:VEVENT
BEGIN:VEVENT
DTSTART;VALUE=DATE:20261211
DTEND;VALUE=DATE:20261212
DTSTAMP:20260424T155314
CREATED:20251107T160229Z
LAST-MODIFIED:20251107T160229Z
UID:2946-1796947200-1797033599@www.generation-68.de
SUMMARY:Glühweintreffen am Weihnachtsmarkt
DESCRIPTION:
URL:https://www.generation-68.de/event/gluehweintreffen-am-weihnachtsmarkt/
END:VEVENT
BEGIN:VEVENT
DTSTART;VALUE=DATE:20261211
DTEND;VALUE=DATE:20261212
DTSTAMP:20260424T155314
CREATED:20260105T174430Z
LAST-MODIFIED:20260105T174430Z
UID:2968-1796947200-1797033599@www.generation-68.de
SUMMARY:Abschluss mit Glühwein auf dem Weihnachtsmarkt\, Gießen
DESCRIPTION:
URL:https://www.generation-68.de/event/abschluss-mit-gluehwein-auf-dem-weihnachtsmarkt-giessen/
END:VEVENT
END:VCALENDAR