BEGIN:VCALENDAR
VERSION:2.0
PRODID:-//Generation 68 - ECPv6.15.20//NONSGML v1.0//EN
CALSCALE:GREGORIAN
METHOD:PUBLISH
X-WR-CALNAME:Generation 68
X-ORIGINAL-URL:https://www.generation-68.de
X-WR-CALDESC:Veranstaltungen für Generation 68
REFRESH-INTERVAL;VALUE=DURATION:PT1H
X-Robots-Tag:noindex
X-PUBLISHED-TTL:PT1H
BEGIN:VTIMEZONE
TZID:Europe/Berlin
BEGIN:DAYLIGHT
TZOFFSETFROM:+0100
TZOFFSETTO:+0200
TZNAME:CEST
DTSTART:20250330T010000
END:DAYLIGHT
BEGIN:STANDARD
TZOFFSETFROM:+0200
TZOFFSETTO:+0100
TZNAME:CET
DTSTART:20251026T010000
END:STANDARD
BEGIN:DAYLIGHT
TZOFFSETFROM:+0100
TZOFFSETTO:+0200
TZNAME:CEST
DTSTART:20260329T010000
END:DAYLIGHT
BEGIN:STANDARD
TZOFFSETFROM:+0200
TZOFFSETTO:+0100
TZNAME:CET
DTSTART:20261025T010000
END:STANDARD
BEGIN:DAYLIGHT
TZOFFSETFROM:+0100
TZOFFSETTO:+0200
TZNAME:CEST
DTSTART:20270328T010000
END:DAYLIGHT
BEGIN:STANDARD
TZOFFSETFROM:+0200
TZOFFSETTO:+0100
TZNAME:CET
DTSTART:20271031T010000
END:STANDARD
END:VTIMEZONE
BEGIN:VEVENT
DTSTART;TZID=Europe/Berlin:20260702T183000
DTEND;TZID=Europe/Berlin:20260702T220000
DTSTAMP:20260424T203928
CREATED:20260213T102536Z
LAST-MODIFIED:20260213T102536Z
UID:2991-1783017000-1783029600@www.generation-68.de
SUMMARY:Stammtisch - R-Café
DESCRIPTION:Gießen – R-Café
URL:https://www.generation-68.de/event/stammtisch-r-cafe/
END:VEVENT
END:VCALENDAR